BEGIN:VCALENDAR
VERSION:2.0
PRODID:-//Guild of the Greenville Symphony Orchestra - ECPv6.15.20//NONSGML v1.0//EN
CALSCALE:GREGORIAN
METHOD:PUBLISH
X-WR-CALNAME:Guild of the Greenville Symphony Orchestra
X-ORIGINAL-URL:https://www.guildgso.org
X-WR-CALDESC:Events for Guild of the Greenville Symphony Orchestra
REFRESH-INTERVAL;VALUE=DURATION:PT1H
X-Robots-Tag:noindex
X-PUBLISHED-TTL:PT1H
BEGIN:VTIMEZONE
TZID:America/New_York
BEGIN:DAYLIGHT
TZOFFSETFROM:-0500
TZOFFSETTO:-0400
TZNAME:EDT
DTSTART:20230312T070000
END:DAYLIGHT
BEGIN:STANDARD
TZOFFSETFROM:-0400
TZOFFSETTO:-0500
TZNAME:EST
DTSTART:20231105T060000
END:STANDARD
BEGIN:DAYLIGHT
TZOFFSETFROM:-0500
TZOFFSETTO:-0400
TZNAME:EDT
DTSTART:20240310T070000
END:DAYLIGHT
BEGIN:STANDARD
TZOFFSETFROM:-0400
TZOFFSETTO:-0500
TZNAME:EST
DTSTART:20241103T060000
END:STANDARD
BEGIN:DAYLIGHT
TZOFFSETFROM:-0500
TZOFFSETTO:-0400
TZNAME:EDT
DTSTART:20250309T070000
END:DAYLIGHT
BEGIN:STANDARD
TZOFFSETFROM:-0400
TZOFFSETTO:-0500
TZNAME:EST
DTSTART:20251102T060000
END:STANDARD
END:VTIMEZONE
BEGIN:VEVENT
DTSTART;TZID=America/New_York:20240502T151500
DTEND;TZID=America/New_York:20240502T151500
DTSTAMP:20260421T100548
CREATED:20240221T010150Z
LAST-MODIFIED:20240221T011608Z
UID:2530-1714662900-1714662900@www.guildgso.org
SUMMARY:Symphony Insights for Chamber 4 - With the Wind
DESCRIPTION:With Leslie Hicken\, Conductor
URL:https://www.guildgso.org/event/symphony-insights-for-chamber-4-with-the-wind/
LOCATION:Herring Center\, Furman University\, 1274 Duncan Chapel Rd.\, Greenville\, SC\, United States
END:VEVENT
END:VCALENDAR