BEGIN:VCALENDAR
VERSION:2.0
PRODID:-//Guild of the Greenville Symphony Orchestra - ECPv6.15.20//NONSGML v1.0//EN
CALSCALE:GREGORIAN
METHOD:PUBLISH
X-ORIGINAL-URL:https://www.guildgso.org
X-WR-CALDESC:Events for Guild of the Greenville Symphony Orchestra
REFRESH-INTERVAL;VALUE=DURATION:PT1H
X-Robots-Tag:noindex
X-PUBLISHED-TTL:PT1H
BEGIN:VTIMEZONE
TZID:America/New_York
BEGIN:DAYLIGHT
TZOFFSETFROM:-0500
TZOFFSETTO:-0400
TZNAME:EDT
DTSTART:20230312T070000
END:DAYLIGHT
BEGIN:STANDARD
TZOFFSETFROM:-0400
TZOFFSETTO:-0500
TZNAME:EST
DTSTART:20231105T060000
END:STANDARD
BEGIN:DAYLIGHT
TZOFFSETFROM:-0500
TZOFFSETTO:-0400
TZNAME:EDT
DTSTART:20240310T070000
END:DAYLIGHT
BEGIN:STANDARD
TZOFFSETFROM:-0400
TZOFFSETTO:-0500
TZNAME:EST
DTSTART:20241103T060000
END:STANDARD
BEGIN:DAYLIGHT
TZOFFSETFROM:-0500
TZOFFSETTO:-0400
TZNAME:EDT
DTSTART:20250309T070000
END:DAYLIGHT
BEGIN:STANDARD
TZOFFSETFROM:-0400
TZOFFSETTO:-0500
TZNAME:EST
DTSTART:20251102T060000
END:STANDARD
END:VTIMEZONE
BEGIN:VEVENT
DTSTART;TZID=America/New_York:20240504T190000
DTEND;TZID=America/New_York:20240504T190000
DTSTAMP:20260421T100748
CREATED:20240220T183852Z
LAST-MODIFIED:20240220T224640Z
UID:2486-1714849200-1714849200@www.guildgso.org
SUMMARY:Star Wars:  A New Hope in Concert
DESCRIPTION:Thiago Tiberio\, Conductor
URL:https://www.guildgso.org/event/star-wars-a-new-hope-in-concert/
LOCATION:Bon Secours Wellness Arena\, 650 N. Academy St.\, Greenville\, 29601\, United States
CATEGORIES:2023-2024 Events
END:VEVENT
END:VCALENDAR