BEGIN:VCALENDAR
VERSION:2.0
PRODID:-//Guild of the Greenville Symphony Orchestra - ECPv6.15.20//NONSGML v1.0//EN
CALSCALE:GREGORIAN
METHOD:PUBLISH
X-ORIGINAL-URL:https://www.guildgso.org
X-WR-CALDESC:Events for Guild of the Greenville Symphony Orchestra
REFRESH-INTERVAL;VALUE=DURATION:PT1H
X-Robots-Tag:noindex
X-PUBLISHED-TTL:PT1H
BEGIN:VTIMEZONE
TZID:America/New_York
BEGIN:DAYLIGHT
TZOFFSETFROM:-0500
TZOFFSETTO:-0400
TZNAME:EDT
DTSTART:20230312T070000
END:DAYLIGHT
BEGIN:STANDARD
TZOFFSETFROM:-0400
TZOFFSETTO:-0500
TZNAME:EST
DTSTART:20231105T060000
END:STANDARD
BEGIN:DAYLIGHT
TZOFFSETFROM:-0500
TZOFFSETTO:-0400
TZNAME:EDT
DTSTART:20240310T070000
END:DAYLIGHT
BEGIN:STANDARD
TZOFFSETFROM:-0400
TZOFFSETTO:-0500
TZNAME:EST
DTSTART:20241103T060000
END:STANDARD
BEGIN:DAYLIGHT
TZOFFSETFROM:-0500
TZOFFSETTO:-0400
TZNAME:EDT
DTSTART:20250309T070000
END:DAYLIGHT
BEGIN:STANDARD
TZOFFSETFROM:-0400
TZOFFSETTO:-0500
TZNAME:EST
DTSTART:20251102T060000
END:STANDARD
END:VTIMEZONE
BEGIN:VEVENT
DTSTART;TZID=America/New_York:20240712T100000
DTEND;TZID=America/New_York:20240712T103000
DTSTAMP:20260421T070553
CREATED:20240705T233913Z
LAST-MODIFIED:20240705T233913Z
UID:2650-1720778400-1720780200@www.guildgso.org
SUMMARY:Lollipops
DESCRIPTION:The Day You Begin by Jacqueline Woodson\nNarration by Traysie Amick\, Principal Teaching Artist of SC Children’s Theatre\nFeaturing woodwind quintet
URL:https://www.guildgso.org/event/lollipops-13/
LOCATION:Carolina Literacy\, Greenville\, SC\, United States
CATEGORIES:2023-2024 Events
END:VEVENT
BEGIN:VEVENT
DTSTART;TZID=America/New_York:20240712T113000
DTEND;TZID=America/New_York:20240712T120000
DTSTAMP:20260421T070553
CREATED:20240705T234106Z
LAST-MODIFIED:20240705T234106Z
UID:2649-1720783800-1720785600@www.guildgso.org
SUMMARY:Lollipops
DESCRIPTION:The Day You Begin by Jacqueline Woodson\nNarration by Traysie Amick\, Principal Teaching Artist of SC Children’s Theatre\nFeaturing woodwind quintet
URL:https://www.guildgso.org/event/lollipops-14/
LOCATION:Long Branch Baptist Church\, 28 Bolt St.\, Greenville\, SC\, 29605\, United States
CATEGORIES:2023-2024 Events
END:VEVENT
END:VCALENDAR