BEGIN:VCALENDAR
VERSION:2.0
PRODID:-//Guild of the Greenville Symphony Orchestra - ECPv6.15.20//NONSGML v1.0//EN
CALSCALE:GREGORIAN
METHOD:PUBLISH
X-WR-CALNAME:Guild of the Greenville Symphony Orchestra
X-ORIGINAL-URL:https://www.guildgso.org
X-WR-CALDESC:Events for Guild of the Greenville Symphony Orchestra
REFRESH-INTERVAL;VALUE=DURATION:PT1H
X-Robots-Tag:noindex
X-PUBLISHED-TTL:PT1H
BEGIN:VTIMEZONE
TZID:America/New_York
BEGIN:DAYLIGHT
TZOFFSETFROM:-0500
TZOFFSETTO:-0400
TZNAME:EDT
DTSTART:20230312T070000
END:DAYLIGHT
BEGIN:STANDARD
TZOFFSETFROM:-0400
TZOFFSETTO:-0500
TZNAME:EST
DTSTART:20231105T060000
END:STANDARD
BEGIN:DAYLIGHT
TZOFFSETFROM:-0500
TZOFFSETTO:-0400
TZNAME:EDT
DTSTART:20240310T070000
END:DAYLIGHT
BEGIN:STANDARD
TZOFFSETFROM:-0400
TZOFFSETTO:-0500
TZNAME:EST
DTSTART:20241103T060000
END:STANDARD
BEGIN:DAYLIGHT
TZOFFSETFROM:-0500
TZOFFSETTO:-0400
TZNAME:EDT
DTSTART:20250309T070000
END:DAYLIGHT
BEGIN:STANDARD
TZOFFSETFROM:-0400
TZOFFSETTO:-0500
TZNAME:EST
DTSTART:20251102T060000
END:STANDARD
END:VTIMEZONE
BEGIN:VEVENT
DTSTART;TZID=America/New_York:20241109T150000
DTEND;TZID=America/New_York:20241109T150000
DTSTAMP:20260421T055556
CREATED:20240930T202656Z
LAST-MODIFIED:20241025T211723Z
UID:2783-1731164400-1731164400@www.guildgso.org
SUMMARY:Gunter Theatre 1: Peter and the Wolf
DESCRIPTION:Mimi Wyche\, Narrator
URL:https://www.guildgso.org/event/gunter-theatre-1-peter-and-the-wolf/
LOCATION:Gunter Theatre
END:VEVENT
END:VCALENDAR