BEGIN:VCALENDAR
VERSION:2.0
PRODID:-//Guild of the Greenville Symphony Orchestra - ECPv6.15.20//NONSGML v1.0//EN
CALSCALE:GREGORIAN
METHOD:PUBLISH
X-ORIGINAL-URL:https://www.guildgso.org
X-WR-CALDESC:Events for Guild of the Greenville Symphony Orchestra
REFRESH-INTERVAL;VALUE=DURATION:PT1H
X-Robots-Tag:noindex
X-PUBLISHED-TTL:PT1H
BEGIN:VTIMEZONE
TZID:America/New_York
BEGIN:DAYLIGHT
TZOFFSETFROM:-0500
TZOFFSETTO:-0400
TZNAME:EDT
DTSTART:20230312T070000
END:DAYLIGHT
BEGIN:STANDARD
TZOFFSETFROM:-0400
TZOFFSETTO:-0500
TZNAME:EST
DTSTART:20231105T060000
END:STANDARD
BEGIN:DAYLIGHT
TZOFFSETFROM:-0500
TZOFFSETTO:-0400
TZNAME:EDT
DTSTART:20240310T070000
END:DAYLIGHT
BEGIN:STANDARD
TZOFFSETFROM:-0400
TZOFFSETTO:-0500
TZNAME:EST
DTSTART:20241103T060000
END:STANDARD
BEGIN:DAYLIGHT
TZOFFSETFROM:-0500
TZOFFSETTO:-0400
TZNAME:EDT
DTSTART:20250309T070000
END:DAYLIGHT
BEGIN:STANDARD
TZOFFSETFROM:-0400
TZOFFSETTO:-0500
TZNAME:EST
DTSTART:20251102T060000
END:STANDARD
END:VTIMEZONE
BEGIN:VEVENT
DTSTART;TZID=America/New_York:20240301T180000
DTEND;TZID=America/New_York:20240301T200000
DTSTAMP:20260421T113615
CREATED:20240114T203421Z
LAST-MODIFIED:20240220T224655Z
UID:2313-1709316000-1709323200@www.guildgso.org
SUMMARY:Dinner for Orchestra: Chamber 2
DESCRIPTION:
URL:https://www.guildgso.org/event/dinner-for-orchestra-chamber-2/
LOCATION:Gunter Theatre
CATEGORIES:2023-2024 Events
END:VEVENT
BEGIN:VEVENT
DTSTART;TZID=America/New_York:20240302T193000
DTEND;TZID=America/New_York:20240302T193000
DTSTAMP:20260421T113615
CREATED:20240114T205528Z
LAST-MODIFIED:20240220T224655Z
UID:2315-1709407800-1709407800@www.guildgso.org
SUMMARY:Chamber 2:  Everything Old is New Again
DESCRIPTION:Gary Robinson\, Conductor and Caroline Robinson\, harpsichord\nSymphony Insight with Gary Robinson at 5:30pm on February 28\, at the Sigal Museum
URL:https://www.guildgso.org/event/chamber-2/
LOCATION:Gunter Theatre
CATEGORIES:2023-2024 Events
END:VEVENT
BEGIN:VEVENT
DTSTART;TZID=America/New_York:20240303T150000
DTEND;TZID=America/New_York:20240303T150000
DTSTAMP:20260421T113615
CREATED:20240114T205655Z
LAST-MODIFIED:20240220T224641Z
UID:2318-1709478000-1709478000@www.guildgso.org
SUMMARY:Chamber 2:  Everything Old is New Again
DESCRIPTION:Gary Robinson\, Conductor and Caroline Robinson\, harpsichord\nSymphony Insight with Gary Robinson at 5:30pm on February 28\, at the Sigal Museum
URL:https://www.guildgso.org/event/chamber-2-everything-old-is-new-again/
LOCATION:Gunter Theatre
CATEGORIES:2023-2024 Events
END:VEVENT
BEGIN:VEVENT
DTSTART;TZID=America/New_York:20240310T140000
DTEND;TZID=America/New_York:20240310T140000
DTSTAMP:20260421T113615
CREATED:20240114T210009Z
LAST-MODIFIED:20240220T224641Z
UID:2320-1710079200-1710079200@www.guildgso.org
SUMMARY:Pop-Up 7: Art Inspired Strings & Winds
DESCRIPTION:
URL:https://www.guildgso.org/event/pop-up-7-art-inspired-strings-winds/
LOCATION:Greenville County Museum of Art\, 420 College St.\, Greenville\, SC\, 29601\, United States
CATEGORIES:2023-2024 Events
END:VEVENT
BEGIN:VEVENT
DTSTART;TZID=America/New_York:20240315T180000
DTEND;TZID=America/New_York:20240315T200000
DTSTAMP:20260421T113615
CREATED:20240114T210110Z
LAST-MODIFIED:20240220T224641Z
UID:2323-1710525600-1710532800@www.guildgso.org
SUMMARY:Dinner for Orchestra - Peace Center 6
DESCRIPTION:
URL:https://www.guildgso.org/event/dinner-for-orchestra-peace-center-6/
LOCATION:Peace Center Hall
CATEGORIES:2023-2024 Events
ORGANIZER;CN="The Guild of the Greenville Symphony":MAILTO:GuildGSO@gmail.com
END:VEVENT
BEGIN:VEVENT
DTSTART;TZID=America/New_York:20240316T193000
DTEND;TZID=America/New_York:20240316T193000
DTSTAMP:20260421T113615
CREATED:20240114T210301Z
LAST-MODIFIED:20240220T224641Z
UID:2325-1710617400-1710617400@www.guildgso.org
SUMMARY:Peace Center 6:  The French Connection
DESCRIPTION:Yaniv Attar\, Conductor and Hector Del Curto\, bandoneon\nFree pre-concert conversation at Genevieve’s on Saturday at 6:30 pm and Sunday at 2:00 pm
URL:https://www.guildgso.org/event/peace-center-6-the-french-connection/
LOCATION:Peace Center Hall
CATEGORIES:2023-2024 Events
END:VEVENT
BEGIN:VEVENT
DTSTART;TZID=America/New_York:20240317T150000
DTEND;TZID=America/New_York:20240317T150000
DTSTAMP:20260421T113615
CREATED:20240114T212445Z
LAST-MODIFIED:20240220T224641Z
UID:2340-1710687600-1710687600@www.guildgso.org
SUMMARY:Peace Center 6: The French Connection
DESCRIPTION:Yaniv Attar\, Conductor and Hector Del Curto\, bandoneon\nFree pre-concert conversation at Genevieve’s on Saturday at 6:30 pm and Sunday at 2:00 pm
URL:https://www.guildgso.org/event/peace-center-6-the-french-connection-4/
LOCATION:Peace Center Hall
CATEGORIES:2023-2024 Events
END:VEVENT
BEGIN:VEVENT
DTSTART;TZID=America/New_York:20240319T100000
DTEND;TZID=America/New_York:20240319T113000
DTSTAMP:20260421T113615
CREATED:20240114T210714Z
LAST-MODIFIED:20240220T224641Z
UID:2329-1710842400-1710847800@www.guildgso.org
SUMMARY:Guild Meeting for Members & Guests
DESCRIPTION:Music Therapy\, The Subtle Healer
URL:https://www.guildgso.org/event/guild-meeting-for-members-guests-2/
LOCATION:Lutheran Church of Our Savior\, 2600 Wade Hampton Blvd.\, Greenville\, SC\, United States
CATEGORIES:2023-2024 Events
ORGANIZER;CN="The Guild of the Greenville Symphony":MAILTO:GuildGSO@gmail.com
END:VEVENT
BEGIN:VEVENT
DTSTART;TZID=America/New_York:20240328T151500
DTEND;TZID=America/New_York:20240328T151500
DTSTAMP:20260421T113615
CREATED:20240221T010037Z
LAST-MODIFIED:20240221T011017Z
UID:2527-1711638900-1711638900@www.guildgso.org
SUMMARY:Symphony Insights for Chamber 3 - Appalachian Elegie
DESCRIPTION:
URL:https://www.guildgso.org/event/symphony-insights-for-chamber-3-appalachian-elegie/
LOCATION:Herring Center\, Furman University\, 1274 Duncan Chapel Rd.\, Greenville\, SC\, United States
END:VEVENT
BEGIN:VEVENT
DTSTART;TZID=America/New_York:20240330T100000
DTEND;TZID=America/New_York:20240330T103000
DTSTAMP:20260421T113615
CREATED:20240114T211845Z
LAST-MODIFIED:20240220T224641Z
UID:2333-1711792800-1711794600@www.guildgso.org
SUMMARY:Lollipops
DESCRIPTION:The Day You Begin by Jacqueline Woodson\nFeaturing Wind Quintet
URL:https://www.guildgso.org/event/lollipops-5/
LOCATION:Hughes Main Library
CATEGORIES:2023-2024 Events
END:VEVENT
BEGIN:VEVENT
DTSTART;TZID=America/New_York:20240330T113000
DTEND;TZID=America/New_York:20240330T120000
DTSTAMP:20260421T113615
CREATED:20240114T211946Z
LAST-MODIFIED:20240220T224641Z
UID:2335-1711798200-1711800000@www.guildgso.org
SUMMARY:Lollipops
DESCRIPTION:The Day You Begin by Jacqueline Woodson\nFeaturing Wind Quintet
URL:https://www.guildgso.org/event/lollipops-6/
LOCATION:Travelers Rest Library
CATEGORIES:2023-2024 Events
END:VEVENT
END:VCALENDAR