BEGIN:VCALENDAR
VERSION:2.0
PRODID:-//Guild of the Greenville Symphony Orchestra - ECPv6.15.20//NONSGML v1.0//EN
CALSCALE:GREGORIAN
METHOD:PUBLISH
X-WR-CALNAME:Guild of the Greenville Symphony Orchestra
X-ORIGINAL-URL:https://www.guildgso.org
X-WR-CALDESC:Events for Guild of the Greenville Symphony Orchestra
REFRESH-INTERVAL;VALUE=DURATION:PT1H
X-Robots-Tag:noindex
X-PUBLISHED-TTL:PT1H
BEGIN:VTIMEZONE
TZID:America/New_York
BEGIN:DAYLIGHT
TZOFFSETFROM:-0500
TZOFFSETTO:-0400
TZNAME:EDT
DTSTART:20230312T070000
END:DAYLIGHT
BEGIN:STANDARD
TZOFFSETFROM:-0400
TZOFFSETTO:-0500
TZNAME:EST
DTSTART:20231105T060000
END:STANDARD
BEGIN:DAYLIGHT
TZOFFSETFROM:-0500
TZOFFSETTO:-0400
TZNAME:EDT
DTSTART:20240310T070000
END:DAYLIGHT
BEGIN:STANDARD
TZOFFSETFROM:-0400
TZOFFSETTO:-0500
TZNAME:EST
DTSTART:20241103T060000
END:STANDARD
BEGIN:DAYLIGHT
TZOFFSETFROM:-0500
TZOFFSETTO:-0400
TZNAME:EDT
DTSTART:20250309T070000
END:DAYLIGHT
BEGIN:STANDARD
TZOFFSETFROM:-0400
TZOFFSETTO:-0500
TZNAME:EST
DTSTART:20251102T060000
END:STANDARD
END:VTIMEZONE
BEGIN:VEVENT
DTSTART;TZID=America/New_York:20240405T180000
DTEND;TZID=America/New_York:20240405T200000
DTSTAMP:20260421T100540
CREATED:20240220T190240Z
LAST-MODIFIED:20240220T224640Z
UID:2498-1712340000-1712347200@www.guildgso.org
SUMMARY:Dinner for Orchestra - Chamber 3
DESCRIPTION:
URL:https://www.guildgso.org/event/dinner-for-orchestra-chamber-3-2/
LOCATION:Peace Concert Hall
CATEGORIES:2023-2024 Events
ORGANIZER;CN="The Guild of the Greenville Symphony":MAILTO:GuildGSO@gmail.com
END:VEVENT
BEGIN:VEVENT
DTSTART;TZID=America/New_York:20240406T193000
DTEND;TZID=America/New_York:20240406T193000
DTSTAMP:20260421T100540
CREATED:20240220T182445Z
LAST-MODIFIED:20240220T224640Z
UID:2474-1712431800-1712431800@www.guildgso.org
SUMMARY:Chamber 3:  Appalachian Elegie
DESCRIPTION:Thomas Joiner\, Conductor and Seth Russell\, cello\nSymphony Insight with Thomas Joiner TBD
URL:https://www.guildgso.org/event/chamber-3-appalachian-elegie/
LOCATION:Gunter Theatre
CATEGORIES:2023-2024 Events
END:VEVENT
BEGIN:VEVENT
DTSTART;TZID=America/New_York:20240407T150000
DTEND;TZID=America/New_York:20240407T150000
DTSTAMP:20260421T100540
CREATED:20240220T182926Z
LAST-MODIFIED:20240220T224640Z
UID:2476-1712502000-1712502000@www.guildgso.org
SUMMARY:Chamber 3:  Appalachian Elegie
DESCRIPTION:Thomas Joiner\, Conductor and Seth Russell\, cello\nSymphony Insight with Thomas Joiner on March 28
URL:https://www.guildgso.org/event/chamber-3-appalachian-elegie-2/
LOCATION:Gunter Theatre
CATEGORIES:2023-2024 Events
END:VEVENT
BEGIN:VEVENT
DTSTART;TZID=America/New_York:20240430T110000
DTEND;TZID=America/New_York:20240430T110000
DTSTAMP:20260421T100540
CREATED:20240220T183326Z
LAST-MODIFIED:20240221T011432Z
UID:2478-1714474800-1714474800@www.guildgso.org
SUMMARY:Once Upon An Orchestra
DESCRIPTION:Interrupting Chicken by David Ezra Stein \nTrays Amick\, Interactive Storyteller \nFeaturing clarinet and percussion
URL:https://www.guildgso.org/event/once-upon-an-orchestra-2/
LOCATION:South Carolina Children’s Theatre
CATEGORIES:2023-2024 Events
END:VEVENT
END:VCALENDAR